BEGIN:VCALENDAR
VERSION:2.0
PRODID:-//Tukios.com/
BEGIN:VEVENT
UID:0a419eb6-2676-4280-b137-e188efb252b9@www.picayunefh.com
DTSTAMP:20260425T221205Z
DTSTART:20260426T190000Z
DTEND:20260426T200000Z
SUMMARY:Celebration of Life
DESCRIPTION:
URL:https://www.picayunefh.com/obituaries/elvis-crocker
LOCATION:Lee's Chapel No.1 Baptist Church 11 Herb Lee Fred Spiers Rd  
	Carriere MS 39426
GEO:30.6703892;-89.7028022
END:VEVENT
END:VCALENDAR