BEGIN:VCALENDAR
VERSION:2.0
PRODID:-//Tukios.com/
BEGIN:VEVENT
UID:52f06a14-c2d7-4d8e-90d5-1c5dccffcd86@www.picayunefh.com
DTSTAMP:20260423T191756Z
DTSTART:20260428T180000Z
DTEND:20260428T190000Z
SUMMARY:Funeral Service
DESCRIPTION:
URL:https://www.picayunefh.com/obituaries/james-gibson
LOCATION: 815 South Haugh Avenue  Picayune MS 39466
GEO:30.5177824;-89.6783175
END:VEVENT
END:VCALENDAR