BEGIN:VCALENDAR
VERSION:2.0
PRODID:-//Tukios.com/
BEGIN:VEVENT
UID:c8830d74-8c32-4b2c-a5b7-bdb8f576bdae@www.picayunefh.com
DTSTAMP:20260423T191217Z
DTSTART:20260428T160000Z
DTEND:20260428T170000Z
SUMMARY:Visitation
DESCRIPTION:
URL:https://www.picayunefh.com/obituaries/james-gibson
LOCATION:Picayune Funeral Home 815 South Haugh Avenue  Picayune MS 39466
GEO:30.5177824;-89.6783175
END:VEVENT
END:VCALENDAR