BEGIN:VCALENDAR
VERSION:2.0
PRODID:-//Tukios.com/
BEGIN:VEVENT
UID:01a00f78-8d6b-4d1c-bd08-65fdab361f21@www.picayunefh.com
DTSTAMP:20260423T191939Z
DTSTART:20260428T200000Z
DTEND:20260428T203000Z
SUMMARY:Burial
DESCRIPTION:
URL:https://www.picayunefh.com/obituaries/james-gibson
LOCATION:McNeill Cemetery 45 Alphabet Rd.  McNeill MS 39426
GEO:30.6588719;-89.6436864
END:VEVENT
END:VCALENDAR