BEGIN:VCALENDAR
VERSION:2.0
PRODID:-//Tukios.com/
BEGIN:VEVENT
UID:790f65f8-da73-420c-b069-dd02c22a3250@www.picayunefh.com
DTSTAMP:20260422T181424Z
DTSTART:20260427T150000Z
DTEND:20260427T160000Z
SUMMARY:Visitation
DESCRIPTION:
URL:https://www.picayunefh.com/obituaries/rebecca-hunter
LOCATION: 1015 Mississippi 43  Picayune MS 39466
GEO:30.5451858;-89.6654964
END:VEVENT
END:VCALENDAR