BEGIN:VCALENDAR
VERSION:2.0
PRODID:-//Tukios.com/
BEGIN:VEVENT
UID:22aa1ca3-67b2-48d2-82a7-2439f80179f3@www.picayunefh.com
DTSTAMP:20260422T181403Z
DTSTART:20260427T160000Z
DTEND:20260427T170000Z
SUMMARY:Celebration of Life
DESCRIPTION:
URL:https://www.picayunefh.com/obituaries/rebecca-hunter
LOCATION: 1015 Mississippi 43  Picayune MS 39466
GEO:30.5451858;-89.6654964
END:VEVENT
END:VCALENDAR