BEGIN:VCALENDAR
VERSION:2.0
PRODID:-//Tukios.com/
BEGIN:VEVENT
UID:a236bb96-4a32-4cd4-b940-1eb536331357@www.picayunefh.com
DTSTAMP:20260422T181153Z
DTSTART:20260427T170000Z
DTEND:20260427T173000Z
SUMMARY:Burial
DESCRIPTION:
URL:https://www.picayunefh.com/obituaries/rebecca-hunter
LOCATION:Pine Grove Cemetery 34 Pine Grove Rd.  Picayune MS 39466
GEO:30.5760212;-89.7630902
END:VEVENT
END:VCALENDAR